BEGIN:VCALENDAR
VERSION:2.0
PRODID:-//Angelverein Jever e.V.//NONSGML kigkonsult.se iCalcreator 2.41.92//
CALSCALE:GREGORIAN
METHOD:PUBLISH
UID:62376437-6137-4936-b336-666261363239
X-WR-CALNAME:iCagenda
X-WR-CALDESC:Event Management Extension for Joomla!
X-WR-RELCALID:3E26604A-50F4-4449-8B3E-E4F4932D05B5
X-WR-TIMEZONE:UTC
BEGIN:VTIMEZONE
TZID:UTC
END:VTIMEZONE
BEGIN:VEVENT
UID:39366636-3736-4234-a439-383331613634
DTSTAMP:20260422T134000Z
CATEGORIES:Veranstaltungen
CLASS:PUBLIC
DESCRIPTION;ALTREP="CID:<FFFF__=0ABBE548DFE235B58f9e8a93d@coffeebean.com>":
 Verbindliche Anmeldung bis 7 Tage vor der Veranstaltung bei den Sportwarte
 n (Anruf\, E-Mail) oder Angelflix.\n\n
DTSTART:20260501T080000Z
DTEND:20260501T120000Z
GEO:+53.565662;+7.962823
LOCATION:Bösselhauser See
ORGANIZER;CN=:mailto:sportwart@angelverein-jever.de
SEQUENCE:1
SUMMARY:Anangeln für Erwachsene
TRANSP:OPAQUE
URL:https://angelverein-jever.de/index.php/a-v-jever/mitgliederservice/vera
 nstaltungs-kalender/11-anangeln-fuer-erwachsene
END:VEVENT
END:VCALENDAR
