BEGIN:VCALENDAR
VERSION:2.0
PRODID:-//Angelverein Jever e.V.//NONSGML kigkonsult.se iCalcreator 2.41.92//
CALSCALE:GREGORIAN
METHOD:PUBLISH
UID:30396464-3065-4533-a263-336566643261
X-WR-CALNAME:iCagenda
X-WR-CALDESC:Event Management Extension for Joomla!
X-WR-RELCALID:3E26604A-50F4-4449-8B3E-E4F4932D05B5
X-WR-TIMEZONE:UTC
BEGIN:VTIMEZONE
TZID:UTC
END:VTIMEZONE
BEGIN:VEVENT
UID:66623265-3933-4162-b566-333935643362
DTSTAMP:20260421T084821Z
CATEGORIES:Veranstaltungen
CLASS:PUBLIC
DESCRIPTION;ALTREP="CID:<FFFF__=0ABBE548DFE235B58f9e8a93d@coffeebean.com>":
 \n    \n       \n          \n             \n                \n            
     {loadmoduleid 225}\n\n\n\n		   Generationsangeln 2026\n \n  \n  Generati
 onsangeln - Jugend trifft Erfahrung\n  \n Verbindliche Anmeldung bis 7 Tag
 e vor der Veranstaltung bei den Sportwarten oder Jugendwarten (Anruf\, E-M
 ail) oder Angelflix.\n  \n  Veranstaltungsort: Mühlentief (Aldi)\n  \n    
 Das Generationsangeln wird als Hegefischen durchgeführt\, bei dem die Teil
 nehmer in gemischten 2er-Teams (alt & jung) antreten werden. Selbstverstän
 dlich sorgen wir für Verpflegung mit Essen und Getränken\, damit ihr euch 
 voll und ganz auf das Angeln konzentrieren könnt (Essgeschirr bitte selber
  mitbringen)\n\n  \n  Wir rufen alle erwachsenen Mitglieder dazu auf\, zah
 lreich teilzunehmen und gemeinsam mit uns und der Jugend einen unvergessli
 chen Abend zu verbringen.\n  \n
DTSTART:20260613T180000Z
DTEND:20260614T000000Z
GEO:00;0
LOCATION:Mühlentief (Aldi)
ORGANIZER;CN=:mailto:jugend@angelverein-jever.de
SEQUENCE:1
SUMMARY:Generationsangeln
TRANSP:OPAQUE
URL:https://angelverein-jever.de/index.php/a-v-jever/mitgliederservice/vera
 nstaltungs-kalender/29-generationsangeln
END:VEVENT
END:VCALENDAR
