BEGIN:VCALENDAR
VERSION:2.0
PRODID:-//Angelverein Jever e.V.//NONSGML kigkonsult.se iCalcreator 2.41.92//
CALSCALE:GREGORIAN
METHOD:PUBLISH
UID:34626538-6138-4631-a535-326238366136
X-WR-CALNAME:iCagenda
X-WR-CALDESC:Event Management Extension for Joomla!
X-WR-RELCALID:3E26604A-50F4-4449-8B3E-E4F4932D05B5
X-WR-TIMEZONE:UTC
BEGIN:VTIMEZONE
TZID:UTC
END:VTIMEZONE
BEGIN:VEVENT
UID:36613864-6166-4130-a234-613265333362
DTSTAMP:20260424T134746Z
CATEGORIES:Veranstaltungen
CLASS:PUBLIC
DESCRIPTION;ALTREP="CID:<FFFF__=0ABBE548DFE235B58f9e8a93d@coffeebean.com>":
 Strike statt Angeln!\nUnsere Weihnachtsfeier für die Jugendgruppe im Bowli
 ngcenter in Schortens.\nBitte meldet euch in der WhatsApp-Gruppe an.
DTSTART:20251207T150000Z
DTEND:20251207T170000Z
GEO:+53.538227;+7.958478
LOCATION:Bowlingcenter Schortens
ORGANIZER;CN=:mailto:jugend@angelverein-jever.de
SEQUENCE:1
SUMMARY:Weihnachtsbowling Jugend-Gruppe
TRANSP:OPAQUE
URL:https://angelverein-jever.de/index.php/a-v-jever/mitgliederservice/vera
 nstaltungs-kalender/34-weihnachtsbowling-jugend-gruppe
END:VEVENT
END:VCALENDAR
