BEGIN:VCALENDAR
VERSION:2.0
PRODID:-//Angelverein Jever e.V.//NONSGML kigkonsult.se iCalcreator 2.41.92//
CALSCALE:GREGORIAN
METHOD:PUBLISH
UID:33333538-3937-4836-b531-633530396366
X-WR-CALNAME:iCagenda
X-WR-CALDESC:Event Management Extension for Joomla!
X-WR-RELCALID:3E26604A-50F4-4449-8B3E-E4F4932D05B5
X-WR-TIMEZONE:UTC
BEGIN:VTIMEZONE
TZID:UTC
END:VTIMEZONE
BEGIN:VEVENT
UID:62333339-6534-4539-b533-653963326665
DTSTAMP:20260420T082601Z
CATEGORIES:Arbeitsdienste
CLASS:PUBLIC
DESCRIPTION;ALTREP="CID:<FFFF__=0ABBE548DFE235B58f9e8a93d@coffeebean.com>":
 Einzelheiten werden über Homepage\, Facebook\, Angelflix und Jugendgruppen
 channel WhatsApp bekannt gegeben.\nVerbindliche Anmeldung bis 5 Tage vor d
 er Veranstaltung bei den Gew#ässerwarten (Anruf\, E-Mail) oder Angelflix.E
 in Imbiss wird angeboten.
DTSTART:20261117T100000Z
DTEND:20261117T130000Z
GEO:00;0
LOCATION:
ORGANIZER;CN=:mailto:gewaesserwart@angelverein-jever.de
SEQUENCE:1
SUMMARY:Arbeitsdienst
TRANSP:OPAQUE
URL:https://angelverein-jever.de/index.php/a-v-jever/mitgliederservice/vera
 nstaltungs-kalender/38-arbeitsdienst-3
END:VEVENT
END:VCALENDAR
